BEGIN:VCALENDAR
VERSION:2.0
PRODID:-//Tukios.com/
BEGIN:VEVENT
UID:d2f369d5-cc28-42be-b06b-148db885861e@www.donaldsonlaurel.com
DTSTAMP:20260422T005946Z
DTSTART:20260424T180000Z
DTEND:20260424T200000Z
SUMMARY:Memorial Visitation
DESCRIPTION:
URL:https://www.donaldsonlaurel.com/obituaries/brian-bennett
LOCATION: 313 Talbott Avenue  Laurel MD 20707-4389
GEO:39.1004011;-76.8491018
END:VEVENT
END:VCALENDAR