BEGIN:VCALENDAR
VERSION:2.0
PRODID:-//Tukios.com/
BEGIN:VEVENT
UID:9410b497-b257-4706-be2d-465a8974169a@www.donaldsonlaurel.com
DTSTAMP:20260422T010502Z
DTSTART:20260424T220000Z
DTEND:20260425T000000Z
SUMMARY:Memorial Visitation
DESCRIPTION:
URL:https://www.donaldsonlaurel.com/obituaries/brian-bennett
LOCATION: 313 Talbott Avenue  Laurel MD 20707-4389
GEO:39.1004011;-76.8491018
END:VEVENT
END:VCALENDAR