BEGIN:VCALENDAR
VERSION:2.0
PRODID:-//Tukios.com/
BEGIN:VEVENT
UID:c8b14432-5eac-490a-993d-b5068fdad305@www.donaldsonlaurel.com
DTSTAMP:20260422T010405Z
DTSTART:20260425T140000Z
DTEND:20260425T150000Z
SUMMARY:Memorial Service
DESCRIPTION:
URL:https://www.donaldsonlaurel.com/obituaries/brian-bennett
LOCATION: 313 Talbott Avenue  Laurel MD 20707-4389
GEO:39.1004011;-76.8491018
END:VEVENT
END:VCALENDAR