BEGIN:VCALENDAR
VERSION:2.0
PRODID:-//Tukios.com/
BEGIN:VEVENT
UID:d1ead291-2b72-409e-812f-b07684dfd3eb@www.donaldsonlaurel.com
DTSTAMP:20260422T010630Z
DTSTART:20260430T130000Z
DTEND:20260430T140000Z
SUMMARY:Visitation
DESCRIPTION:
URL:https://www.donaldsonlaurel.com/obituaries/carol-carkhuff
LOCATION: 15000 First Baptist Lane  Laurel MD 20707
GEO:39.0999364;-76.8769733
END:VEVENT
END:VCALENDAR