BEGIN:VCALENDAR
VERSION:2.0
PRODID:-//Tukios.com/
BEGIN:VEVENT
UID:e9805c02-9d5c-4779-8403-7c2443893daa@www.donaldsonlaurel.com
DTSTAMP:20260422T010017Z
DTSTART:20260430T140000Z
DTEND:20260430T150000Z
SUMMARY:Funeral Service
DESCRIPTION:
URL:https://www.donaldsonlaurel.com/obituaries/carol-carkhuff
LOCATION: 15000 First Baptist Lane  Laurel MD 20707
GEO:39.0999364;-76.8769733
END:VEVENT
END:VCALENDAR