BEGIN:VCALENDAR
VERSION:2.0
PRODID:-//Tukios.com/
BEGIN:VEVENT
UID:dfa56037-f490-4a2b-9568-83e929ee00e2@www.donaldsonlaurel.com
DTSTAMP:20260422T010502Z
DTSTART:20260430T154500Z
DTEND:20260430T163000Z
SUMMARY:Graveside Service
DESCRIPTION:
URL:https://www.donaldsonlaurel.com/obituaries/carol-carkhuff
LOCATION: 3401 Bladensburg Road  Brentwood MD 20722
GEO:38.9437631;-76.9568974
END:VEVENT
END:VCALENDAR