BEGIN:VCALENDAR
VERSION:2.0
PRODID:-//Tukios.com/
BEGIN:VEVENT
UID:be231471-0dd2-4973-825d-80eab4b15bb0@www.donaldsonlaurel.com
DTSTAMP:20260424T234550Z
DTSTART:20260501T160000Z
DTEND:20260501T170000Z
SUMMARY:Memorial Gathering
DESCRIPTION:
URL:https://www.donaldsonlaurel.com/obituaries/edward-ryan
LOCATION: 313 Talbott Ave  Laurel MD 20707
GEO:39.1004011;-76.8491018
END:VEVENT
END:VCALENDAR