BEGIN:VCALENDAR
VERSION:2.0
PRODID:-//Tukios.com/
BEGIN:VEVENT
UID:bfc6e55b-f0bf-4c08-a336-af2011d688bc@www.donaldsonlaurel.com
DTSTAMP:20260424T234333Z
DTSTART:20260501T170000Z
DTEND:20260501T180000Z
SUMMARY:Memorial Service
DESCRIPTION:
URL:https://www.donaldsonlaurel.com/obituaries/edward-ryan
LOCATION: 313 Talbott Ave  Laurel MD 20707
GEO:39.1004011;-76.8491018
END:VEVENT
END:VCALENDAR