BEGIN:VCALENDAR
VERSION:2.0
PRODID:-//Tukios.com/
BEGIN:VEVENT
UID:19930283-5577-45d0-8f31-061f4aadc23f@www.donaldsonlaurel.com
DTSTAMP:20260423T161310Z
DTSTART:20260428T180000Z
DTEND:20260428T183000Z
SUMMARY:Memorial Service
DESCRIPTION:
URL:https://www.donaldsonlaurel.com/obituaries/jerry-gowen
LOCATION: 313 Talbott Ave  Laurel MD 20707
GEO:39.1004011;-76.8491018
END:VEVENT
END:VCALENDAR