BEGIN:VCALENDAR
VERSION:2.0
PRODID:-//Tukios.com/
BEGIN:VEVENT
UID:0ddd6bcd-9549-4faf-af2a-80c33f9c165f@www.donaldsonlaurel.com
DTSTAMP:20260422T010044Z
DTSTART:20260424T190000Z
DTEND:20260424T230000Z
SUMMARY:Visitation
DESCRIPTION:
URL:https://www.donaldsonlaurel.com/obituaries/nafisa-nigodi
LOCATION: 313 Talbott Ave  Laurel MD 20707
GEO:39.1004011;-76.8491018
END:VEVENT
END:VCALENDAR