BEGIN:VCALENDAR
VERSION:2.0
PRODID:-//Tukios.com/
BEGIN:VEVENT
UID:bfd3fae9-c384-4747-80e7-15948f80c3ef@www.donaldsonlaurel.com
DTSTAMP:20260422T005945Z
DTSTART:20260425T170000Z
DTEND:20260425T180000Z
SUMMARY:Funeral Service
DESCRIPTION:
URL:https://www.donaldsonlaurel.com/obituaries/nafisa-nigodi
LOCATION:Islamic Community Center of Laurel 7306 Contee Road  Laurel MD 
	20707
GEO:39.08059;-76.8800078
END:VEVENT
END:VCALENDAR