BEGIN:VCALENDAR
VERSION:2.0
PRODID:-//Tukios.com/
BEGIN:VEVENT
UID:7fc1dc51-a733-478f-8207-65352bce1bf8@www.donaldsonlaurel.com
DTSTAMP:20260422T010130Z
DTSTART:20260425T183000Z
DTEND:20260425T190000Z
SUMMARY:Graveside Service
DESCRIPTION:
URL:https://www.donaldsonlaurel.com/obituaries/nafisa-nigodi
LOCATION: 13300 Baltimore Ave  Laurel MD 20707
GEO:39.07395;-76.876059
END:VEVENT
END:VCALENDAR