BEGIN:VCALENDAR
VERSION:2.0
PRODID:-//Tukios.com/
BEGIN:VEVENT
UID:9e149abd-e739-484b-b730-fc23b3449ef2@www.donaldsonlaurel.com
DTSTAMP:20260420T235705Z
DTSTART:20260423T180000Z
DTEND:20260423T200000Z
SUMMARY:Visitation
DESCRIPTION:
URL:https://www.donaldsonlaurel.com/obituaries/roberta-fancher
LOCATION: 313 Talbott Ave  Laurel MD 20707
GEO:39.1004011;-76.8491018
END:VEVENT
END:VCALENDAR