BEGIN:VCALENDAR
VERSION:2.0
PRODID:-//Tukios.com/
BEGIN:VEVENT
UID:e485beb6-6eb6-4e99-84bb-b8dd46d2d82d@www.donaldsonlaurel.com
DTSTAMP:20260420T235408Z
DTSTART:20260424T143000Z
DTEND:20260424T153000Z
SUMMARY:Service
DESCRIPTION:
URL:https://www.donaldsonlaurel.com/obituaries/roberta-fancher
LOCATION: 40 Ridge Road  Greenbelt MD 20770
GEO:39.0037618;-76.8721964
END:VEVENT
END:VCALENDAR